BEGIN:VCALENDAR
VERSION:2.0
PRODID:-//Naše Brdy - ECPv6.15.20//NONSGML v1.0//EN
CALSCALE:GREGORIAN
METHOD:PUBLISH
X-WR-CALNAME:Naše Brdy
X-ORIGINAL-URL:https://nasebrdy.cz
X-WR-CALDESC:Akce na Naše Brdy
REFRESH-INTERVAL;VALUE=DURATION:PT1H
X-Robots-Tag:noindex
X-PUBLISHED-TTL:PT1H
BEGIN:VTIMEZONE
TZID:Europe/Prague
BEGIN:DAYLIGHT
TZOFFSETFROM:+0100
TZOFFSETTO:+0200
TZNAME:CEST
DTSTART:20220327T010000
END:DAYLIGHT
BEGIN:STANDARD
TZOFFSETFROM:+0200
TZOFFSETTO:+0100
TZNAME:CET
DTSTART:20221030T010000
END:STANDARD
BEGIN:DAYLIGHT
TZOFFSETFROM:+0100
TZOFFSETTO:+0200
TZNAME:CEST
DTSTART:20230326T010000
END:DAYLIGHT
BEGIN:STANDARD
TZOFFSETFROM:+0200
TZOFFSETTO:+0100
TZNAME:CET
DTSTART:20231029T010000
END:STANDARD
BEGIN:DAYLIGHT
TZOFFSETFROM:+0100
TZOFFSETTO:+0200
TZNAME:CEST
DTSTART:20240331T010000
END:DAYLIGHT
BEGIN:STANDARD
TZOFFSETFROM:+0200
TZOFFSETTO:+0100
TZNAME:CET
DTSTART:20241027T010000
END:STANDARD
BEGIN:DAYLIGHT
TZOFFSETFROM:+0100
TZOFFSETTO:+0200
TZNAME:CEST
DTSTART:20250330T010000
END:DAYLIGHT
BEGIN:STANDARD
TZOFFSETFROM:+0200
TZOFFSETTO:+0100
TZNAME:CET
DTSTART:20251026T010000
END:STANDARD
END:VTIMEZONE
BEGIN:VEVENT
DTSTART;TZID=Europe/Prague:20241207T160000
DTEND;TZID=Europe/Prague:20241207T180000
DTSTAMP:20260420T102150
CREATED:20241202T120703Z
LAST-MODIFIED:20241202T120728Z
UID:14188-1733587200-1733594400@nasebrdy.cz
SUMMARY:Brdský zvířecí betlém
DESCRIPTION:
URL:https://nasebrdy.cz/udalost/brdsky-zvireci-bedlem/
LOCATION:Mlýn Na Krahulici
ATTACH;FMTTYPE=image/jpeg:https://nasebrdy.cz/wp-content/uploads/2024/12/betlem_blatiny_zvirata.jpg
END:VEVENT
BEGIN:VEVENT
DTSTART;TZID=Europe/Prague:20240429T153000
DTEND;TZID=Europe/Prague:20240429T180000
DTSTAMP:20260420T102150
CREATED:20240425T222916Z
LAST-MODIFIED:20240425T222916Z
UID:13909-1714404600-1714413600@nasebrdy.cz
SUMMARY:Rej čarodějnic
DESCRIPTION:
URL:https://nasebrdy.cz/udalost/rej-carodejnic/
LOCATION:náměstí\, Spálené Poříčí
END:VEVENT
BEGIN:VEVENT
DTSTART;TZID=Europe/Prague:20231111T110000
DTEND;TZID=Europe/Prague:20231111T200000
DTSTAMP:20260420T102150
CREATED:20231107T120219Z
LAST-MODIFIED:20231107T120219Z
UID:13601-1699700400-1699732800@nasebrdy.cz
SUMMARY:Svatomartinské menu
DESCRIPTION:Restaurace hotelu Brdy
URL:https://nasebrdy.cz/udalost/svatomartinske-menu/
LOCATION:Spálené Poříčí\, Spálené Poříčí\, Česká republika
END:VEVENT
BEGIN:VEVENT
DTSTART;VALUE=DATE:20230516
DTEND;VALUE=DATE:20230619
DTSTAMP:20260420T102150
CREATED:20230322T100948Z
LAST-MODIFIED:20230322T101309Z
UID:13430-1684195200-1687132799@nasebrdy.cz
SUMMARY:Rok ve školní družině - výstava
DESCRIPTION:Městské infocentrum vystavuje výtvarné práce.
URL:https://nasebrdy.cz/udalost/rok-ve-skolni-druzine-vystava/
LOCATION:Spálené Poříčí\, Spálené Poříčí\, Česká republika
END:VEVENT
END:VCALENDAR