BEGIN:VCALENDAR
VERSION:2.0
PRODID:-//Naše Brdy - ECPv6.15.20//NONSGML v1.0//EN
CALSCALE:GREGORIAN
METHOD:PUBLISH
X-WR-CALNAME:Naše Brdy
X-ORIGINAL-URL:https://nasebrdy.cz
X-WR-CALDESC:Akce na Naše Brdy
REFRESH-INTERVAL;VALUE=DURATION:PT1H
X-Robots-Tag:noindex
X-PUBLISHED-TTL:PT1H
BEGIN:VTIMEZONE
TZID:Europe/Prague
BEGIN:DAYLIGHT
TZOFFSETFROM:+0100
TZOFFSETTO:+0200
TZNAME:CEST
DTSTART:20210328T010000
END:DAYLIGHT
BEGIN:STANDARD
TZOFFSETFROM:+0200
TZOFFSETTO:+0100
TZNAME:CET
DTSTART:20211031T010000
END:STANDARD
BEGIN:DAYLIGHT
TZOFFSETFROM:+0100
TZOFFSETTO:+0200
TZNAME:CEST
DTSTART:20220327T010000
END:DAYLIGHT
BEGIN:STANDARD
TZOFFSETFROM:+0200
TZOFFSETTO:+0100
TZNAME:CET
DTSTART:20221030T010000
END:STANDARD
BEGIN:DAYLIGHT
TZOFFSETFROM:+0100
TZOFFSETTO:+0200
TZNAME:CEST
DTSTART:20230326T010000
END:DAYLIGHT
BEGIN:STANDARD
TZOFFSETFROM:+0200
TZOFFSETTO:+0100
TZNAME:CET
DTSTART:20231029T010000
END:STANDARD
BEGIN:DAYLIGHT
TZOFFSETFROM:+0100
TZOFFSETTO:+0200
TZNAME:CEST
DTSTART:20240331T010000
END:DAYLIGHT
BEGIN:STANDARD
TZOFFSETFROM:+0200
TZOFFSETTO:+0100
TZNAME:CET
DTSTART:20241027T010000
END:STANDARD
BEGIN:DAYLIGHT
TZOFFSETFROM:+0100
TZOFFSETTO:+0200
TZNAME:CEST
DTSTART:20250330T010000
END:DAYLIGHT
BEGIN:STANDARD
TZOFFSETFROM:+0200
TZOFFSETTO:+0100
TZNAME:CET
DTSTART:20251026T010000
END:STANDARD
BEGIN:DAYLIGHT
TZOFFSETFROM:+0100
TZOFFSETTO:+0200
TZNAME:CEST
DTSTART:20260329T010000
END:DAYLIGHT
BEGIN:STANDARD
TZOFFSETFROM:+0200
TZOFFSETTO:+0100
TZNAME:CET
DTSTART:20261025T010000
END:STANDARD
END:VTIMEZONE
BEGIN:VEVENT
DTSTART;VALUE=DATE:20251004
DTEND;VALUE=DATE:20251005
DTSTAMP:20260420T085511
CREATED:20251001T103834Z
LAST-MODIFIED:20251001T103834Z
UID:14404-1759536000-1759622399@nasebrdy.cz
SUMMARY:Novodvorský rybník - výlov
DESCRIPTION:
URL:https://nasebrdy.cz/udalost/novodvorsky-rybnik-vylov/
LOCATION:Rožmitál pod Třemšínem\, Rožmitál pod Třemšínem
ATTACH;FMTTYPE=image/jpeg:https://nasebrdy.cz/wp-content/uploads/2025/03/rozmital-1.jpg
END:VEVENT
BEGIN:VEVENT
DTSTART;TZID=Europe/Prague:20240928T160000
DTEND;TZID=Europe/Prague:20240928T220000
DTSTAMP:20260420T085511
CREATED:20240926T212029Z
LAST-MODIFIED:20240926T212029Z
UID:14072-1727539200-1727560800@nasebrdy.cz
SUMMARY:Podzimní koncert orchestrů
DESCRIPTION:
URL:https://nasebrdy.cz/udalost/podzimni-koncert-orchestru/
LOCATION:Rožmitál pod Třemšínem\, Rožmitál pod Třemšínem
END:VEVENT
BEGIN:VEVENT
DTSTART;VALUE=DATE:20240622
DTEND;VALUE=DATE:20240623
DTSTAMP:20260420T085511
CREATED:20240524T134145Z
LAST-MODIFIED:20240524T134145Z
UID:13972-1719014400-1719100799@nasebrdy.cz
SUMMARY:Slavnost královny Johanky
DESCRIPTION:
URL:https://nasebrdy.cz/udalost/slavnost-kralovny-johanky/
LOCATION:Rožmitál pod Třemšínem\, Rožmitál pod Třemšínem
END:VEVENT
BEGIN:VEVENT
DTSTART;VALUE=DATE:20230624
DTEND;VALUE=DATE:20230625
DTSTAMP:20260420T085511
CREATED:20220615T152055Z
LAST-MODIFIED:20230310T120605Z
UID:13001-1687564800-1687651199@nasebrdy.cz
SUMMARY:Slavnost Johanky
DESCRIPTION:Středověká slavnost
URL:https://nasebrdy.cz/udalost/slavnost-johanky/
LOCATION:Rožmitál pod Třemšínem\, Rožmitál pod Třemšínem
END:VEVENT
BEGIN:VEVENT
DTSTART;TZID=Europe/Prague:20220916T190000
DTEND;TZID=Europe/Prague:20220916T213000
DTSTAMP:20260420T085511
CREATED:20220910T202412Z
LAST-MODIFIED:20220910T202412Z
UID:13104-1663354800-1663363800@nasebrdy.cz
SUMMARY:Zahajovací koncert Festivalu Jakuba Jana Ryby
DESCRIPTION:Na programu je světová premiéra Rybova Koncertu pro cembalo a orchestr C dur\, dále díla J. S. Bacha a J. K. Vaňhala. Dramaturgický úvod Zdeněk Klauda\, Vojtěch Spurný a Václav Uhlíř.
URL:https://nasebrdy.cz/udalost/zahajovaci-koncert-festivalu-jakuba-jana-ryby/
LOCATION:Rožmitál pod Třemšínem\, Rožmitál pod Třemšínem
END:VEVENT
END:VCALENDAR