BEGIN:VCALENDAR
VERSION:2.0
PRODID:-//Naše Brdy - ECPv6.15.20//NONSGML v1.0//EN
CALSCALE:GREGORIAN
METHOD:PUBLISH
X-WR-CALNAME:Naše Brdy
X-ORIGINAL-URL:https://nasebrdy.cz
X-WR-CALDESC:Akce na Naše Brdy
REFRESH-INTERVAL;VALUE=DURATION:PT1H
X-Robots-Tag:noindex
X-PUBLISHED-TTL:PT1H
BEGIN:VTIMEZONE
TZID:Europe/Prague
BEGIN:DAYLIGHT
TZOFFSETFROM:+0100
TZOFFSETTO:+0200
TZNAME:CEST
DTSTART:20230326T010000
END:DAYLIGHT
BEGIN:STANDARD
TZOFFSETFROM:+0200
TZOFFSETTO:+0100
TZNAME:CET
DTSTART:20231029T010000
END:STANDARD
BEGIN:DAYLIGHT
TZOFFSETFROM:+0100
TZOFFSETTO:+0200
TZNAME:CEST
DTSTART:20240331T010000
END:DAYLIGHT
BEGIN:STANDARD
TZOFFSETFROM:+0200
TZOFFSETTO:+0100
TZNAME:CET
DTSTART:20241027T010000
END:STANDARD
BEGIN:DAYLIGHT
TZOFFSETFROM:+0100
TZOFFSETTO:+0200
TZNAME:CEST
DTSTART:20250330T010000
END:DAYLIGHT
BEGIN:STANDARD
TZOFFSETFROM:+0200
TZOFFSETTO:+0100
TZNAME:CET
DTSTART:20251026T010000
END:STANDARD
END:VTIMEZONE
BEGIN:VEVENT
DTSTART;TZID=Europe/Prague:20240525T130000
DTEND;TZID=Europe/Prague:20240525T220000
DTSTAMP:20260420T071719
CREATED:20240425T134054Z
LAST-MODIFIED:20240425T134146Z
UID:13840-1716642000-1716674400@nasebrdy.cz
SUMMARY:Charitativní dětský den
DESCRIPTION:Dobrovolné vstupné. Výtěžek jde na Charitu Příbram.
URL:https://nasebrdy.cz/udalost/charitativni-den/
LOCATION:Na Louce\, Rejkovice
END:VEVENT
BEGIN:VEVENT
DTSTART;TZID=Europe/Prague:20240430T170000
DTEND;TZID=Europe/Prague:20240430T233000
DTSTAMP:20260420T071719
CREATED:20240425T223429Z
LAST-MODIFIED:20240425T223439Z
UID:13912-1714496400-1714519800@nasebrdy.cz
SUMMARY:Pálení čarodějnic
DESCRIPTION:
URL:https://nasebrdy.cz/udalost/paleni-carodejnic-2/
LOCATION:hřiště\, Jince
END:VEVENT
END:VCALENDAR