BEGIN:VCALENDAR
VERSION:2.0
PRODID:-//Naše Brdy - ECPv6.15.20//NONSGML v1.0//EN
CALSCALE:GREGORIAN
METHOD:PUBLISH
X-WR-CALNAME:Naše Brdy
X-ORIGINAL-URL:https://nasebrdy.cz
X-WR-CALDESC:Akce na Naše Brdy
REFRESH-INTERVAL;VALUE=DURATION:PT1H
X-Robots-Tag:noindex
X-PUBLISHED-TTL:PT1H
BEGIN:VTIMEZONE
TZID:Europe/Prague
BEGIN:DAYLIGHT
TZOFFSETFROM:+0100
TZOFFSETTO:+0200
TZNAME:CEST
DTSTART:20180325T010000
END:DAYLIGHT
BEGIN:STANDARD
TZOFFSETFROM:+0200
TZOFFSETTO:+0100
TZNAME:CET
DTSTART:20181028T010000
END:STANDARD
BEGIN:DAYLIGHT
TZOFFSETFROM:+0100
TZOFFSETTO:+0200
TZNAME:CEST
DTSTART:20190331T010000
END:DAYLIGHT
BEGIN:STANDARD
TZOFFSETFROM:+0200
TZOFFSETTO:+0100
TZNAME:CET
DTSTART:20191027T010000
END:STANDARD
BEGIN:DAYLIGHT
TZOFFSETFROM:+0100
TZOFFSETTO:+0200
TZNAME:CEST
DTSTART:20200329T010000
END:DAYLIGHT
BEGIN:STANDARD
TZOFFSETFROM:+0200
TZOFFSETTO:+0100
TZNAME:CET
DTSTART:20201025T010000
END:STANDARD
BEGIN:DAYLIGHT
TZOFFSETFROM:+0100
TZOFFSETTO:+0200
TZNAME:CEST
DTSTART:20210328T010000
END:DAYLIGHT
BEGIN:STANDARD
TZOFFSETFROM:+0200
TZOFFSETTO:+0100
TZNAME:CET
DTSTART:20211031T010000
END:STANDARD
BEGIN:DAYLIGHT
TZOFFSETFROM:+0100
TZOFFSETTO:+0200
TZNAME:CEST
DTSTART:20220327T010000
END:DAYLIGHT
BEGIN:STANDARD
TZOFFSETFROM:+0200
TZOFFSETTO:+0100
TZNAME:CET
DTSTART:20221030T010000
END:STANDARD
BEGIN:DAYLIGHT
TZOFFSETFROM:+0100
TZOFFSETTO:+0200
TZNAME:CEST
DTSTART:20230326T010000
END:DAYLIGHT
BEGIN:STANDARD
TZOFFSETFROM:+0200
TZOFFSETTO:+0100
TZNAME:CET
DTSTART:20231029T010000
END:STANDARD
BEGIN:DAYLIGHT
TZOFFSETFROM:+0100
TZOFFSETTO:+0200
TZNAME:CEST
DTSTART:20240331T010000
END:DAYLIGHT
BEGIN:STANDARD
TZOFFSETFROM:+0200
TZOFFSETTO:+0100
TZNAME:CET
DTSTART:20241027T010000
END:STANDARD
BEGIN:DAYLIGHT
TZOFFSETFROM:+0100
TZOFFSETTO:+0200
TZNAME:CEST
DTSTART:20250330T010000
END:DAYLIGHT
BEGIN:STANDARD
TZOFFSETFROM:+0200
TZOFFSETTO:+0100
TZNAME:CET
DTSTART:20251026T010000
END:STANDARD
END:VTIMEZONE
BEGIN:VEVENT
DTSTART;VALUE=DATE:20240622
DTEND;VALUE=DATE:20240623
DTSTAMP:20260420T053604
CREATED:20240426T084034Z
LAST-MODIFIED:20240426T084034Z
UID:13946-1719014400-1719100799@nasebrdy.cz
SUMMARY:Dětské TFA
DESCRIPTION:Hasičské závody
URL:https://nasebrdy.cz/udalost/detske-tfa/
LOCATION:hřiště\, Jince
END:VEVENT
BEGIN:VEVENT
DTSTART;VALUE=DATE:20240615
DTEND;VALUE=DATE:20240616
DTSTAMP:20260420T053604
CREATED:20240426T080827Z
LAST-MODIFIED:20240426T080827Z
UID:13920-1718409600-1718495999@nasebrdy.cz
SUMMARY:Jinecké slavnosti
DESCRIPTION:
URL:https://nasebrdy.cz/udalost/jinecke-slavnosti/
LOCATION:Huť Barbora\, Jince
END:VEVENT
BEGIN:VEVENT
DTSTART;TZID=Europe/Prague:20240608T073000
DTEND;TZID=Europe/Prague:20240608T113000
DTSTAMP:20260420T053604
CREATED:20240426T082519Z
LAST-MODIFIED:20240426T082713Z
UID:13929-1717831800-1717846200@nasebrdy.cz
SUMMARY:Rybářské závody pro děti
DESCRIPTION:Jince\, Kopáčovský rybník. FOTO: Kuba Turek
URL:https://nasebrdy.cz/udalost/rybarske-zavody-pro-deti/
LOCATION:Kopáčov rybník\, Jince
END:VEVENT
BEGIN:VEVENT
DTSTART;TZID=Europe/Prague:20240605T090000
DTEND;TZID=Europe/Prague:20240605T130000
DTSTAMP:20260420T053604
CREATED:20240426T081416Z
LAST-MODIFIED:20240426T081416Z
UID:13924-1717578000-1717592400@nasebrdy.cz
SUMMARY:Dělostřelecký pluk - den otevřených dveří
DESCRIPTION:Dětský den a den otevřených dveří Jaselského pluku
URL:https://nasebrdy.cz/udalost/delostrelecky-pluk-den-otevrenych-dveri/
LOCATION:kasárna\, Jince
END:VEVENT
BEGIN:VEVENT
DTSTART;TZID=Europe/Prague:20240605T080000
DTEND;TZID=Europe/Prague:20240605T120000
DTSTAMP:20260420T053604
CREATED:20240426T084530Z
LAST-MODIFIED:20240426T084719Z
UID:13949-1717574400-1717588800@nasebrdy.cz
SUMMARY:Ve vodě nežijí jen vodníci
DESCRIPTION:Jince\, Kopáčovský rybník. FOTO: Kuba Turek\nNáborová akce rybářského svazu
URL:https://nasebrdy.cz/udalost/ve-vode-neziji-jen-vodnici/
LOCATION:Kopáčov rybník\, Jince
END:VEVENT
BEGIN:VEVENT
DTSTART;VALUE=DATE:20240528
DTEND;VALUE=DATE:20240603
DTSTAMP:20260420T053604
CREATED:20240425T214407Z
LAST-MODIFIED:20240425T214407Z
UID:13897-1716854400-1717372799@nasebrdy.cz
SUMMARY:Legiovlak
DESCRIPTION:Legiovlak zastaví v Jincích na nádraží od 28. května do 2. června. Vstupné je zdarma.
URL:https://nasebrdy.cz/udalost/legiovlak/
LOCATION:nádraží\, Jince
END:VEVENT
BEGIN:VEVENT
DTSTART;TZID=Europe/Prague:20240518T100000
DTEND;TZID=Europe/Prague:20240518T170000
DTSTAMP:20260420T053604
CREATED:20240425T171317Z
LAST-MODIFIED:20240425T171705Z
UID:13874-1716026400-1716051600@nasebrdy.cz
SUMMARY:Tajemství pamětníků dávných časů
DESCRIPTION:Vycházka do Ohrazenic
URL:https://nasebrdy.cz/udalost/tajemstvi-pametniku-davnych-casu/
LOCATION:kostel\, Jince
END:VEVENT
BEGIN:VEVENT
DTSTART;VALUE=DATE:20240518
DTEND;VALUE=DATE:20240520
DTSTAMP:20260420T053604
CREATED:20240425T155917Z
LAST-MODIFIED:20240425T155917Z
UID:13862-1715990400-1716163199@nasebrdy.cz
SUMMARY:Pouť v Jincích
DESCRIPTION:Pouť a výstava zvířat
URL:https://nasebrdy.cz/udalost/pout-v-jincich/
LOCATION:Jince\, Jince
END:VEVENT
BEGIN:VEVENT
DTSTART;TZID=Europe/Prague:20240513T180000
DTEND;TZID=Europe/Prague:20240513T200000
DTSTAMP:20260420T053604
CREATED:20240425T140751Z
LAST-MODIFIED:20240425T140915Z
UID:13853-1715623200-1715630400@nasebrdy.cz
SUMMARY:Letnice - beseda
DESCRIPTION:
URL:https://nasebrdy.cz/udalost/letnice-beseda/
LOCATION:Komunitní centrum\, Slavíkova 28\, Jince
END:VEVENT
BEGIN:VEVENT
DTSTART;TZID=Europe/Prague:20240506T083000
DTEND;TZID=Europe/Prague:20240506T120000
DTSTAMP:20260420T053604
CREATED:20240425T191237Z
LAST-MODIFIED:20240425T191237Z
UID:13883-1714984200-1714996800@nasebrdy.cz
SUMMARY:Háčkování košíků
DESCRIPTION:
URL:https://nasebrdy.cz/udalost/hackovani-kosiku/
LOCATION:Jinečáček\, Havlíčkova 19\, Jince
END:VEVENT
BEGIN:VEVENT
DTSTART;TZID=Europe/Prague:20240504T100000
DTEND;TZID=Europe/Prague:20240505T160000
DTSTAMP:20260420T053604
CREATED:20240425T195544Z
LAST-MODIFIED:20240425T195544Z
UID:13890-1714816800-1714924800@nasebrdy.cz
SUMMARY:Otevření hutě Barbory
DESCRIPTION:
URL:https://nasebrdy.cz/udalost/otevreni-hute-barbory/
LOCATION:Huť Barbora\, Jince
ATTACH;FMTTYPE=image/jpeg:https://nasebrdy.cz/wp-content/uploads/2020/11/Jince_Barbora.jpg
END:VEVENT
BEGIN:VEVENT
DTSTART;TZID=Europe/Prague:20240501T090000
DTEND;TZID=Europe/Prague:20240501T120000
DTSTAMP:20260420T053604
CREATED:20240425T164221Z
LAST-MODIFIED:20240425T164221Z
UID:13865-1714554000-1714564800@nasebrdy.cz
SUMMARY:Retro prvomájový průvod
DESCRIPTION:
URL:https://nasebrdy.cz/udalost/retro-prvomajovy-pruvod/
LOCATION:náměstí\, Spálené Poříčí
END:VEVENT
BEGIN:VEVENT
DTSTART;TZID=Europe/Prague:20240430T160000
DTEND;TZID=Europe/Prague:20240430T233000
DTSTAMP:20260420T053604
CREATED:20240425T223838Z
LAST-MODIFIED:20240425T223838Z
UID:13917-1714492800-1714519800@nasebrdy.cz
SUMMARY:Pálení čarodějnic
DESCRIPTION:
URL:https://nasebrdy.cz/udalost/paleni-carodejnic-3/
LOCATION:Huť Barbora\, Jince
END:VEVENT
BEGIN:VEVENT
DTSTART;TZID=Europe/Prague:20240428T140000
DTEND;TZID=Europe/Prague:20240428T150000
DTSTAMP:20260420T053604
CREATED:20240425T135121Z
LAST-MODIFIED:20240425T135121Z
UID:13845-1714312800-1714316400@nasebrdy.cz
SUMMARY:Milíř u hutě Barbora
DESCRIPTION:Zapálení milíře. Rozhrab je plánovaný na 4. května.
URL:https://nasebrdy.cz/udalost/milir-u-hute-barbora/
LOCATION:Huť Barbora\, Jince
END:VEVENT
BEGIN:VEVENT
DTSTART;TZID=Europe/Prague:20240427T083000
DTEND;TZID=Europe/Prague:20240427T163000
DTSTAMP:20260420T053604
CREATED:20240425T140033Z
LAST-MODIFIED:20240425T140033Z
UID:13850-1714206600-1714235400@nasebrdy.cz
SUMMARY:Mládežnický přebor v šachu
DESCRIPTION:
URL:https://nasebrdy.cz/udalost/mladeznicky-prebor-v-sachu/
LOCATION:Huť Barbora\, Jince
END:VEVENT
BEGIN:VEVENT
DTSTART;TZID=Europe/Prague:20240424T170000
DTEND;TZID=Europe/Prague:20240426T190000
DTSTAMP:20260420T053604
CREATED:20240425T220547Z
LAST-MODIFIED:20240425T220547Z
UID:13902-1713978000-1714158000@nasebrdy.cz
SUMMARY:Jarní koncerty
DESCRIPTION:Základní umělecká škola Jakuba Jana Ryby\, Rožmitál pod Třemšínem.
URL:https://nasebrdy.cz/udalost/jarni-koncerty/
LOCATION:Huť Barbora\, Jince
END:VEVENT
BEGIN:VEVENT
DTSTART;TZID=Europe/Prague:20190425T170000
DTEND;TZID=Europe/Prague:20190425T190000
DTSTAMP:20260420T053604
CREATED:20190224T000343Z
LAST-MODIFIED:20190224T000343Z
UID:3285-1556211600-1556218800@nasebrdy.cz
SUMMARY:Brdské hájovny
DESCRIPTION:Přednáška. Přednáší Petr Ježek ve Společenském centru Josefa Slavíka.
URL:https://nasebrdy.cz/udalost/brdske-hajovny/
LOCATION:Jince
END:VEVENT
END:VCALENDAR