BEGIN:VCALENDAR
VERSION:2.0
PRODID:-//Naše Brdy - ECPv6.15.20//NONSGML v1.0//EN
CALSCALE:GREGORIAN
METHOD:PUBLISH
X-WR-CALNAME:Naše Brdy
X-ORIGINAL-URL:https://nasebrdy.cz
X-WR-CALDESC:Akce na Naše Brdy
REFRESH-INTERVAL;VALUE=DURATION:PT1H
X-Robots-Tag:noindex
X-PUBLISHED-TTL:PT1H
BEGIN:VTIMEZONE
TZID:Europe/Prague
BEGIN:DAYLIGHT
TZOFFSETFROM:+0100
TZOFFSETTO:+0200
TZNAME:CEST
DTSTART:20170326T010000
END:DAYLIGHT
BEGIN:STANDARD
TZOFFSETFROM:+0200
TZOFFSETTO:+0100
TZNAME:CET
DTSTART:20171029T010000
END:STANDARD
BEGIN:DAYLIGHT
TZOFFSETFROM:+0100
TZOFFSETTO:+0200
TZNAME:CEST
DTSTART:20180325T010000
END:DAYLIGHT
BEGIN:STANDARD
TZOFFSETFROM:+0200
TZOFFSETTO:+0100
TZNAME:CET
DTSTART:20181028T010000
END:STANDARD
BEGIN:DAYLIGHT
TZOFFSETFROM:+0100
TZOFFSETTO:+0200
TZNAME:CEST
DTSTART:20190331T010000
END:DAYLIGHT
BEGIN:STANDARD
TZOFFSETFROM:+0200
TZOFFSETTO:+0100
TZNAME:CET
DTSTART:20191027T010000
END:STANDARD
BEGIN:DAYLIGHT
TZOFFSETFROM:+0100
TZOFFSETTO:+0200
TZNAME:CEST
DTSTART:20200329T010000
END:DAYLIGHT
BEGIN:STANDARD
TZOFFSETFROM:+0200
TZOFFSETTO:+0100
TZNAME:CET
DTSTART:20201025T010000
END:STANDARD
BEGIN:DAYLIGHT
TZOFFSETFROM:+0100
TZOFFSETTO:+0200
TZNAME:CEST
DTSTART:20210328T010000
END:DAYLIGHT
BEGIN:STANDARD
TZOFFSETFROM:+0200
TZOFFSETTO:+0100
TZNAME:CET
DTSTART:20211031T010000
END:STANDARD
BEGIN:DAYLIGHT
TZOFFSETFROM:+0100
TZOFFSETTO:+0200
TZNAME:CEST
DTSTART:20220327T010000
END:DAYLIGHT
BEGIN:STANDARD
TZOFFSETFROM:+0200
TZOFFSETTO:+0100
TZNAME:CET
DTSTART:20221030T010000
END:STANDARD
BEGIN:DAYLIGHT
TZOFFSETFROM:+0100
TZOFFSETTO:+0200
TZNAME:CEST
DTSTART:20230326T010000
END:DAYLIGHT
BEGIN:STANDARD
TZOFFSETFROM:+0200
TZOFFSETTO:+0100
TZNAME:CET
DTSTART:20231029T010000
END:STANDARD
BEGIN:DAYLIGHT
TZOFFSETFROM:+0100
TZOFFSETTO:+0200
TZNAME:CEST
DTSTART:20240331T010000
END:DAYLIGHT
BEGIN:STANDARD
TZOFFSETFROM:+0200
TZOFFSETTO:+0100
TZNAME:CET
DTSTART:20241027T010000
END:STANDARD
BEGIN:DAYLIGHT
TZOFFSETFROM:+0100
TZOFFSETTO:+0200
TZNAME:CEST
DTSTART:20250330T010000
END:DAYLIGHT
BEGIN:STANDARD
TZOFFSETFROM:+0200
TZOFFSETTO:+0100
TZNAME:CET
DTSTART:20251026T010000
END:STANDARD
BEGIN:DAYLIGHT
TZOFFSETFROM:+0100
TZOFFSETTO:+0200
TZNAME:CEST
DTSTART:20260329T010000
END:DAYLIGHT
BEGIN:STANDARD
TZOFFSETFROM:+0200
TZOFFSETTO:+0100
TZNAME:CET
DTSTART:20261025T010000
END:STANDARD
END:VTIMEZONE
BEGIN:VEVENT
DTSTART;TZID=Europe/Prague:20251206T110000
DTEND;TZID=Europe/Prague:20251206T190000
DTSTAMP:20260420T083216
CREATED:20190223T221310Z
LAST-MODIFIED:20251126T115215Z
UID:3259-1765018800-1765047600@nasebrdy.cz
SUMMARY:Vánoční trh na zámku
DESCRIPTION:
URL:https://nasebrdy.cz/udalost/dobrissky-tvrdak/
LOCATION:Dobříš\, Hřiště u kina\, Dobříš
ATTACH;FMTTYPE=image/jpeg:https://nasebrdy.cz/wp-content/uploads/2024/12/dobris-vanocni-trh-2023-VII.jpg
END:VEVENT
BEGIN:VEVENT
DTSTART;VALUE=DATE:20251206
DTEND;VALUE=DATE:20251207
DTSTAMP:20260420T083216
CREATED:20210614T111821Z
LAST-MODIFIED:20251001T093816Z
UID:12559-1764979200-1765065599@nasebrdy.cz
SUMMARY:Maraton Praha - Dobříš
DESCRIPTION:Pokud se budete chtít po doběhnutí v Dobříši ubytovat\, tak doporučujeme Hotely\, pensiony v Dobříši .
URL:https://nasebrdy.cz/udalost/maraton-dobris/
LOCATION:Dobříš\, Hřiště u kina\, Dobříš
ATTACH;FMTTYPE=image/jpeg:https://nasebrdy.cz/wp-content/uploads/2021/12/vitez-Svarc.jpg
END:VEVENT
BEGIN:VEVENT
DTSTART;TZID=Europe/Prague:20241207T110000
DTEND;TZID=Europe/Prague:20241207T190000
DTSTAMP:20260420T083216
CREATED:20241207T002625Z
LAST-MODIFIED:20241207T002625Z
UID:14202-1733569200-1733598000@nasebrdy.cz
SUMMARY:Vánoční trh na zámku
DESCRIPTION:
URL:https://nasebrdy.cz/udalost/vanocni-trh-na-zamku/
LOCATION:Dobříš zámek
ATTACH;FMTTYPE=image/jpeg:https://nasebrdy.cz/wp-content/uploads/2024/12/dobris-vanocni-trh-2023-VIII.jpg
END:VEVENT
BEGIN:VEVENT
DTSTART;VALUE=DATE:20190907
DTEND;VALUE=DATE:20190908
DTSTAMP:20260420T083216
CREATED:20190223T220352Z
LAST-MODIFIED:20190223T220352Z
UID:3247-1567814400-1567900799@nasebrdy.cz
SUMMARY:Brdmanův Pařez
DESCRIPTION:Bikemaraton
URL:https://nasebrdy.cz/udalost/brdmanuv-parez/
LOCATION:Dobříš
END:VEVENT
BEGIN:VEVENT
DTSTART;VALUE=DATE:20190615
DTEND;VALUE=DATE:20190616
DTSTAMP:20260420T083216
CREATED:20190223T221147Z
LAST-MODIFIED:20190223T221147Z
UID:3256-1560556800-1560643199@nasebrdy.cz
SUMMARY:7 rybníků swimrun
DESCRIPTION:Plavání a běh
URL:https://nasebrdy.cz/udalost/7-rybniku-swimrun/
LOCATION:Dobříš
END:VEVENT
BEGIN:VEVENT
DTSTART;VALUE=DATE:20190427
DTEND;VALUE=DATE:20190428
DTSTAMP:20260420T083216
CREATED:20190223T220858Z
LAST-MODIFIED:20190223T221000Z
UID:3253-1556323200-1556409599@nasebrdy.cz
SUMMARY:Viprahlý Bajkonur
DESCRIPTION:Orientační závod na horských kolech
URL:https://nasebrdy.cz/udalost/viprahly-bajkonur/
LOCATION:Dobříš
END:VEVENT
BEGIN:VEVENT
DTSTART;VALUE=DATE:20181102
DTEND;VALUE=DATE:20181105
DTSTAMP:20260420T083216
CREATED:20180720T212109Z
LAST-MODIFIED:20180720T212109Z
UID:2844-1541116800-1541375999@nasebrdy.cz
SUMMARY:Relaxační víkend jógy a odpočinku
DESCRIPTION:
URL:https://nasebrdy.cz/udalost/relaxacni-vikend-jogy-a-odpocinku/
LOCATION:Dobříš\, Studio Orel
END:VEVENT
BEGIN:VEVENT
DTSTART;VALUE=DATE:20181028
DTEND;VALUE=DATE:20181029
DTSTAMP:20260420T083216
CREATED:20180720T211751Z
LAST-MODIFIED:20180720T211751Z
UID:2841-1540684800-1540771199@nasebrdy.cz
SUMMARY:Pochod na Čtyřmezí
DESCRIPTION:Turistický pochod.
URL:https://nasebrdy.cz/udalost/pochod-na-ctyrmezi/
LOCATION:Dobříš
END:VEVENT
BEGIN:VEVENT
DTSTART;VALUE=DATE:20180916
DTEND;VALUE=DATE:20180917
DTSTAMP:20260420T083216
CREATED:20180907T111121Z
LAST-MODIFIED:20180907T111121Z
UID:2992-1537056000-1537142399@nasebrdy.cz
SUMMARY:Běh města Dobříše
DESCRIPTION:
URL:https://nasebrdy.cz/udalost/beh-mesta-dobrise/
LOCATION:Dobříš\, Hřiště u kina\, Dobříš
END:VEVENT
END:VCALENDAR